Package: fishpond Version: 2.13.0 Command: rm -rf fishpond.buildbin-libdir && mkdir fishpond.buildbin-libdir && E:\biocbuild\bbs-3.21-bioc\R\bin\R.exe CMD INSTALL --build --library=fishpond.buildbin-libdir fishpond_2.13.0.tar.gz StartedAt: 2025-02-05 07:56:50 -0500 (Wed, 05 Feb 2025) EndedAt: 2025-02-05 07:57:36 -0500 (Wed, 05 Feb 2025) EllapsedTime: 46.2 seconds RetCode: 0 Status: OK PackageFile: fishpond_2.13.0.zip PackageFileSize: 1.576 MiB