Package: fishpond Version: 2.13.0 Command: chmod a+r fishpond -R && E:\biocbuild\bbs-3.21-bioc\R\bin\R.exe CMD build --keep-empty-dirs --no-resave-data fishpond StartedAt: 2025-02-04 18:45:20 -0500 (Tue, 04 Feb 2025) EndedAt: 2025-02-04 18:51:49 -0500 (Tue, 04 Feb 2025) EllapsedTime: 389.1 seconds RetCode: 0 Status: OK PackageFile: fishpond_2.13.0.tar.gz PackageFileSize: 1.847 MiB