Package: fishpond Version: 2.13.0 Command: E:\biocbuild\bbs-3.21-bioc\R\bin\R.exe CMD check --no-multiarch --install=check:fishpond.install-out.txt --library=E:\biocbuild\bbs-3.21-bioc\R\library --no-vignettes --timings fishpond_2.13.0.tar.gz StartedAt: 2025-02-05 01:35:25 -0500 (Wed, 05 Feb 2025) EndedAt: 2025-02-05 01:39:58 -0500 (Wed, 05 Feb 2025) EllapsedTime: 272.9 seconds RetCode: 0 Status: OK CheckDir: fishpond.Rcheck Warnings: 0