Package: fishpond Version: 2.13.0 Command: E:\biocbuild\bbs-3.21-bioc\R\bin\R.exe CMD INSTALL fishpond StartedAt: 2025-02-04 15:54:08 -0500 (Tue, 04 Feb 2025) EndedAt: 2025-02-04 15:54:47 -0500 (Tue, 04 Feb 2025) EllapsedTime: 39.1 seconds RetCode: 0 Status: OK