Package: flagme Version: 1.63.0 Command: rm -rf flagme.buildbin-libdir && mkdir flagme.buildbin-libdir && /Users/biocbuild/BBS/utils/build-universal.sh flagme_1.63.0.tar.gz /Library/Frameworks/R.framework/Resources/bin/R flagme.buildbin-libdir StartedAt: 2025-02-09 22:14:28 -0500 (Sun, 09 Feb 2025) EndedAt: 2025-02-09 22:14:49 -0500 (Sun, 09 Feb 2025) EllapsedTime: 20.5 seconds RetCode: 0 Status: OK PackageFile: flagme_1.63.0.tgz PackageFileSize: 1.214 MiB