Package: flagme Version: 1.63.0 Command: /home/biocbuild/bbs-3.21-bioc/R/bin/R CMD build --keep-empty-dirs --no-resave-data flagme StartedAt: 2025-02-09 17:15:13 -0500 (Sun, 09 Feb 2025) EndedAt: 2025-02-09 17:18:41 -0500 (Sun, 09 Feb 2025) EllapsedTime: 207.3 seconds RetCode: 0 Status: OK PackageFile: flagme_1.63.0.tar.gz PackageFileSize: 726.8 KiB