Package: flagme Version: 1.63.0 Command: /home/biocbuild/bbs-3.21-bioc/R/bin/R CMD check --install=check:flagme.install-out.txt --library=/home/biocbuild/bbs-3.21-bioc/R/site-library --timings flagme_1.63.0.tar.gz StartedAt: 2025-02-09 22:20:09 -0500 (Sun, 09 Feb 2025) EndedAt: 2025-02-09 22:36:55 -0500 (Sun, 09 Feb 2025) EllapsedTime: 1005.6 seconds RetCode: 0 Status: WARNINGS CheckDir: flagme.Rcheck Warnings: 2