Package: flagme Version: 1.63.0 Command: /home/biocbuild/bbs-3.21-bioc/R/bin/R CMD INSTALL flagme StartedAt: 2025-02-09 15:43:44 -0500 (Sun, 09 Feb 2025) EndedAt: 2025-02-09 15:44:30 -0500 (Sun, 09 Feb 2025) EllapsedTime: 46.8 seconds RetCode: 0 Status: OK