Package: flowAI Version: 1.37.0 Maintainer: Gianni Monaco MaintainerEmail: mongianni1 at gmail.com git_url: https://git.bioconductor.org/packages/flowAI git_branch: devel git_last_commit: 1a2a8aa git_last_commit_date: 2024-10-29 10:06:30 -0500 (Tue, 29 Oct 2024)