Package: flowAI Version: 1.37.0 Command: rm -rf flowAI.buildbin-libdir && mkdir flowAI.buildbin-libdir && /Users/biocbuild/BBS/utils/build-universal.sh flowAI_1.37.0.tar.gz /Library/Frameworks/R.framework/Resources/bin/R flowAI.buildbin-libdir StartedAt: 2025-02-09 22:14:31 -0500 (Sun, 09 Feb 2025) EndedAt: 2025-02-09 22:14:36 -0500 (Sun, 09 Feb 2025) EllapsedTime: 5.1 seconds RetCode: 0 Status: OK PackageFile: flowAI_1.37.0.tgz PackageFileSize: 3.691 MiB