Package: flowAI Version: 1.37.0 Command: /home/biocbuild/R/R/bin/R CMD build --keep-empty-dirs --no-resave-data flowAI StartedAt: 2025-01-28 22:54:38 -0000 (Tue, 28 Jan 2025) EndedAt: 2025-01-28 22:54:58 -0000 (Tue, 28 Jan 2025) EllapsedTime: 20.0 seconds RetCode: 0 Status: OK PackageFile: flowAI_1.37.0.tar.gz PackageFileSize: 3.81 MiB