Package: flowAI Version: 1.37.0 Command: /home/biocbuild/R/R/bin/R CMD check --install=check:flowAI.install-out.txt --library=/home/biocbuild/R/R/site-library --no-vignettes --timings flowAI_1.37.0.tar.gz StartedAt: 2025-01-28 10:38:02 -0000 (Tue, 28 Jan 2025) EndedAt: 2025-01-28 10:39:25 -0000 (Tue, 28 Jan 2025) EllapsedTime: 83.0 seconds RetCode: 0 Status: OK CheckDir: flowAI.Rcheck Warnings: 0