Package: flowAI Version: 1.37.0 Command: /home/biocbuild/R/R/bin/R CMD INSTALL flowAI StartedAt: 2025-01-29 20:05:07 -0000 (Wed, 29 Jan 2025) EndedAt: 2025-01-29 20:05:19 -0000 (Wed, 29 Jan 2025) EllapsedTime: 12.5 seconds RetCode: 0 Status: OK