Package: flowAI Version: 1.37.0 Command: /home/biocbuild/bbs-3.21-bioc/R/bin/R CMD build --keep-empty-dirs --no-resave-data flowAI StartedAt: 2025-02-09 17:15:35 -0500 (Sun, 09 Feb 2025) EndedAt: 2025-02-09 17:15:50 -0500 (Sun, 09 Feb 2025) EllapsedTime: 15.1 seconds RetCode: 0 Status: OK PackageFile: flowAI_1.37.0.tar.gz PackageFileSize: 3.748 MiB