Package: flowAI Version: 1.37.0 Command: /home/biocbuild/bbs-3.21-bioc/R/bin/R CMD check --install=check:flowAI.install-out.txt --library=/home/biocbuild/bbs-3.21-bioc/R/site-library --timings flowAI_1.37.0.tar.gz StartedAt: 2025-02-12 22:20:07 -0500 (Wed, 12 Feb 2025) EndedAt: 2025-02-12 22:21:17 -0500 (Wed, 12 Feb 2025) EllapsedTime: 70.1 seconds RetCode: 0 Status: OK CheckDir: flowAI.Rcheck Warnings: 0