Package: flowAI Version: 1.37.0 Command: /home/biocbuild/bbs-3.21-bioc/R/bin/R CMD INSTALL flowAI StartedAt: 2025-02-12 15:14:04 -0500 (Wed, 12 Feb 2025) EndedAt: 2025-02-12 15:14:15 -0500 (Wed, 12 Feb 2025) EllapsedTime: 10.5 seconds RetCode: 0 Status: OK