Package: flowAI Version: 1.37.0 Command: rm -rf flowAI.buildbin-libdir && mkdir flowAI.buildbin-libdir && E:\biocbuild\bbs-3.21-bioc\R\bin\R.exe CMD INSTALL --build --library=flowAI.buildbin-libdir flowAI_1.37.0.tar.gz StartedAt: 2025-02-10 07:45:26 -0500 (Mon, 10 Feb 2025) EndedAt: 2025-02-10 07:45:41 -0500 (Mon, 10 Feb 2025) EllapsedTime: 15.7 seconds RetCode: 0 Status: OK PackageFile: flowAI_1.37.0.zip PackageFileSize: 3.693 MiB