Package: flowAI Version: 1.37.0 Command: E:\biocbuild\bbs-3.21-bioc\R\bin\R.exe CMD check --no-multiarch --install=check:flowAI.install-out.txt --library=E:\biocbuild\bbs-3.21-bioc\R\library --no-vignettes --timings flowAI_1.37.0.tar.gz StartedAt: 2025-02-10 01:07:48 -0500 (Mon, 10 Feb 2025) EndedAt: 2025-02-10 01:09:20 -0500 (Mon, 10 Feb 2025) EllapsedTime: 92.1 seconds RetCode: 0 Status: OK CheckDir: flowAI.Rcheck Warnings: 0