Package: flowBeads Version: 1.45.0 Command: /Library/Frameworks/R.framework/Resources/bin/R CMD build --keep-empty-dirs --no-resave-data flowBeads StartedAt: 2025-02-09 16:20:00 -0500 (Sun, 09 Feb 2025) EndedAt: 2025-02-09 16:20:08 -0500 (Sun, 09 Feb 2025) EllapsedTime: 8.1 seconds RetCode: 0 Status: OK PackageFile: flowBeads_1.45.0.tar.gz PackageFileSize: 978.1 KiB