Package: flowBeads Version: 1.45.0 Command: /home/biocbuild/R/R/bin/R CMD check --install=check:flowBeads.install-out.txt --library=/home/biocbuild/R/R/site-library --no-vignettes --timings flowBeads_1.45.0.tar.gz StartedAt: 2025-01-28 10:38:35 -0000 (Tue, 28 Jan 2025) EndedAt: 2025-01-28 10:39:48 -0000 (Tue, 28 Jan 2025) EllapsedTime: 73.1 seconds RetCode: 0 Status: WARNINGS CheckDir: flowBeads.Rcheck Warnings: 2