Package: flowBeads Version: 1.45.0 Command: /home/biocbuild/R/R/bin/R CMD INSTALL flowBeads StartedAt: 2025-01-29 19:43:58 -0000 (Wed, 29 Jan 2025) EndedAt: 2025-01-29 19:44:10 -0000 (Wed, 29 Jan 2025) EllapsedTime: 12.3 seconds RetCode: 0 Status: OK