Package: flowBeads Version: 1.45.0 Command: rm -rf flowBeads.buildbin-libdir && mkdir flowBeads.buildbin-libdir && /Users/biocbuild/BBS/utils/build-universal.sh flowBeads_1.45.0.tar.gz /Library/Frameworks/R.framework/Resources/bin/R flowBeads.buildbin-libdir StartedAt: 2025-02-04 00:34:19 -0500 (Tue, 04 Feb 2025) EndedAt: 2025-02-04 00:34:35 -0500 (Tue, 04 Feb 2025) EllapsedTime: 16.3 seconds RetCode: 0 Status: OK PackageFile: flowBeads_1.45.0.tgz PackageFileSize: 1.224 MiB