Package: flowBeads Version: 1.45.0 Command: /Library/Frameworks/R.framework/Resources/bin/R CMD check --install=check:flowBeads.install-out.txt --library=/Library/Frameworks/R.framework/Resources/library --no-vignettes --timings flowBeads_1.45.0.tar.gz StartedAt: 2025-02-03 20:33:58 -0500 (Mon, 03 Feb 2025) EndedAt: 2025-02-03 20:35:12 -0500 (Mon, 03 Feb 2025) EllapsedTime: 74.0 seconds RetCode: 0 Status: WARNINGS CheckDir: flowBeads.Rcheck Warnings: 2