Package: flowBeads Version: 1.45.0 Command: /Library/Frameworks/R.framework/Resources/bin/R CMD INSTALL flowBeads StartedAt: 2025-02-03 15:17:59 -0500 (Mon, 03 Feb 2025) EndedAt: 2025-02-03 15:18:16 -0500 (Mon, 03 Feb 2025) EllapsedTime: 17.3 seconds RetCode: 0 Status: OK