Package: flowBeads Version: 1.45.0 Command: /home/biocbuild/bbs-3.21-bioc/R/bin/R CMD build --keep-empty-dirs --no-resave-data flowBeads StartedAt: 2025-02-09 17:15:42 -0500 (Sun, 09 Feb 2025) EndedAt: 2025-02-09 17:15:58 -0500 (Sun, 09 Feb 2025) EllapsedTime: 16.1 seconds RetCode: 0 Status: OK PackageFile: flowBeads_1.45.0.tar.gz PackageFileSize: 978.1 KiB