Package: flowBeads Version: 1.45.0 Command: /home/biocbuild/bbs-3.21-bioc/R/bin/R CMD check --install=check:flowBeads.install-out.txt --library=/home/biocbuild/bbs-3.21-bioc/R/site-library --timings flowBeads_1.45.0.tar.gz StartedAt: 2025-02-03 22:29:06 -0500 (Mon, 03 Feb 2025) EndedAt: 2025-02-03 22:30:10 -0500 (Mon, 03 Feb 2025) EllapsedTime: 64.1 seconds RetCode: 0 Status: WARNINGS CheckDir: flowBeads.Rcheck Warnings: 2