Package: flowBeads Version: 1.45.0 Command: /home/biocbuild/bbs-3.21-bioc/R/bin/R CMD INSTALL flowBeads StartedAt: 2025-02-09 15:14:45 -0500 (Sun, 09 Feb 2025) EndedAt: 2025-02-09 15:14:53 -0500 (Sun, 09 Feb 2025) EllapsedTime: 8.5 seconds RetCode: 0 Status: OK