Package: flowBeads Version: 1.45.0 Command: rm -rf flowBeads.buildbin-libdir && mkdir flowBeads.buildbin-libdir && E:\biocbuild\bbs-3.21-bioc\R\bin\R.exe CMD INSTALL --build --library=flowBeads.buildbin-libdir flowBeads_1.45.0.tar.gz StartedAt: 2025-02-04 07:59:02 -0500 (Tue, 04 Feb 2025) EndedAt: 2025-02-04 07:59:40 -0500 (Tue, 04 Feb 2025) EllapsedTime: 37.7 seconds RetCode: 0 Status: OK PackageFile: flowBeads_1.45.0.zip PackageFileSize: 1.089 MiB