Package: flowBeads Version: 1.45.0 Command: chmod a+r flowBeads -R && E:\biocbuild\bbs-3.21-bioc\R\bin\R.exe CMD build --keep-empty-dirs --no-resave-data flowBeads StartedAt: 2025-02-09 18:43:38 -0500 (Sun, 09 Feb 2025) EndedAt: 2025-02-09 18:44:09 -0500 (Sun, 09 Feb 2025) EllapsedTime: 30.4 seconds RetCode: 0 Status: OK PackageFile: flowBeads_1.45.0.tar.gz PackageFileSize: 834.6 KiB