Package: flowBin Version: 1.43.0 Command: /Library/Frameworks/R.framework/Resources/bin/R CMD check --install=check:flowBin.install-out.txt --library=/Library/Frameworks/R.framework/Resources/library --no-vignettes --timings flowBin_1.43.0.tar.gz StartedAt: 2025-02-12 20:32:49 -0500 (Wed, 12 Feb 2025) EndedAt: 2025-02-12 20:34:23 -0500 (Wed, 12 Feb 2025) EllapsedTime: 93.5 seconds RetCode: 0 Status: OK CheckDir: flowBin.Rcheck Warnings: 0