Package: flowBin Version: 1.43.0 Command: /Library/Frameworks/R.framework/Resources/bin/R CMD INSTALL flowBin StartedAt: 2025-02-09 15:13:41 -0500 (Sun, 09 Feb 2025) EndedAt: 2025-02-09 15:13:56 -0500 (Sun, 09 Feb 2025) EllapsedTime: 14.3 seconds RetCode: 0 Status: OK