Package: flowBin Version: 1.43.0 Command: chmod a+r flowBin -R && E:\biocbuild\bbs-3.21-bioc\R\bin\R.exe CMD build --keep-empty-dirs --no-resave-data flowBin StartedAt: 2025-02-12 18:47:17 -0500 (Wed, 12 Feb 2025) EndedAt: 2025-02-12 18:48:01 -0500 (Wed, 12 Feb 2025) EllapsedTime: 44.7 seconds RetCode: 0 Status: OK PackageFile: flowBin_1.43.0.tar.gz PackageFileSize: 483.2 KiB