Package: flowClean Version: 1.45.0 Command: /Library/Frameworks/R.framework/Resources/bin/R CMD build --keep-empty-dirs --no-resave-data flowClean StartedAt: 2025-02-09 16:20:16 -0500 (Sun, 09 Feb 2025) EndedAt: 2025-02-09 16:20:31 -0500 (Sun, 09 Feb 2025) EllapsedTime: 15.2 seconds RetCode: 0 Status: OK PackageFile: flowClean_1.45.0.tar.gz PackageFileSize: 4.924 MiB