Package: flowClean Version: 1.45.0 Command: /home/biocbuild/bbs-3.21-bioc/R/bin/R CMD build --keep-empty-dirs --no-resave-data flowClean StartedAt: 2025-02-09 17:15:50 -0500 (Sun, 09 Feb 2025) EndedAt: 2025-02-09 17:16:19 -0500 (Sun, 09 Feb 2025) EllapsedTime: 29.0 seconds RetCode: 0 Status: OK PackageFile: flowClean_1.45.0.tar.gz PackageFileSize: 4.716 MiB