Package: flowClean Version: 1.45.0 Command: /home/biocbuild/bbs-3.21-bioc/R/bin/R CMD check --install=check:flowClean.install-out.txt --library=/home/biocbuild/bbs-3.21-bioc/R/site-library --timings flowClean_1.45.0.tar.gz StartedAt: 2025-02-12 22:21:17 -0500 (Wed, 12 Feb 2025) EndedAt: 2025-02-12 22:22:39 -0500 (Wed, 12 Feb 2025) EllapsedTime: 82.1 seconds RetCode: 0 Status: WARNINGS CheckDir: flowClean.Rcheck Warnings: 3