Package: flowClean Version: 1.45.0 Command: rm -rf flowClean.buildbin-libdir && mkdir flowClean.buildbin-libdir && E:\biocbuild\bbs-3.21-bioc\R\bin\R.exe CMD INSTALL --build --library=flowClean.buildbin-libdir flowClean_1.45.0.tar.gz StartedAt: 2025-02-13 07:56:25 -0500 (Thu, 13 Feb 2025) EndedAt: 2025-02-13 07:56:40 -0500 (Thu, 13 Feb 2025) EllapsedTime: 15.1 seconds RetCode: 0 Status: OK PackageFile: flowClean_1.45.0.zip PackageFileSize: 4.629 MiB