Package: flowClean Version: 1.45.0 Command: E:\biocbuild\bbs-3.21-bioc\R\bin\R.exe CMD INSTALL flowClean StartedAt: 2025-02-12 15:37:43 -0500 (Wed, 12 Feb 2025) EndedAt: 2025-02-12 15:37:55 -0500 (Wed, 12 Feb 2025) EllapsedTime: 11.7 seconds RetCode: 0 Status: OK