Package: flowClust Version: 3.45.0 Command: rm -rf flowClust.buildbin-libdir && mkdir flowClust.buildbin-libdir && /Users/biocbuild/BBS/utils/build-universal.sh flowClust_3.45.0.tar.gz /Library/Frameworks/R.framework/Resources/bin/R flowClust.buildbin-libdir StartedAt: 2025-02-04 22:16:28 -0500 (Tue, 04 Feb 2025) EndedAt: 2025-02-04 22:17:46 -0500 (Tue, 04 Feb 2025) EllapsedTime: 77.7 seconds RetCode: 0 Status: OK PackageFile: flowClust_3.45.0.tgz PackageFileSize: 1.363 MiB