Package: flowClust Version: 3.45.0 Command: /Library/Frameworks/R.framework/Resources/bin/R CMD build --keep-empty-dirs --no-resave-data flowClust StartedAt: 2025-02-04 16:20:56 -0500 (Tue, 04 Feb 2025) EndedAt: 2025-02-04 16:21:59 -0500 (Tue, 04 Feb 2025) EllapsedTime: 63.8 seconds RetCode: 0 Status: OK PackageFile: flowClust_3.45.0.tar.gz PackageFileSize: 1.765 MiB