Package: flowClust Version: 3.45.0 Command: /Library/Frameworks/R.framework/Resources/bin/R CMD check --install=check:flowClust.install-out.txt --library=/Library/Frameworks/R.framework/Resources/library --no-vignettes --timings flowClust_3.45.0.tar.gz StartedAt: 2025-02-09 19:14:41 -0500 (Sun, 09 Feb 2025) EndedAt: 2025-02-09 19:16:07 -0500 (Sun, 09 Feb 2025) EllapsedTime: 86.1 seconds RetCode: 0 Status: WARNINGS CheckDir: flowClust.Rcheck Warnings: 2