Package: flowClust Version: 3.45.0 Command: /home/biocbuild/R/R/bin/R CMD build --keep-empty-dirs --no-resave-data flowClust StartedAt: 2025-01-28 22:55:29 -0000 (Tue, 28 Jan 2025) EndedAt: 2025-01-28 22:57:58 -0000 (Tue, 28 Jan 2025) EllapsedTime: 149.1 seconds RetCode: 0 Status: OK PackageFile: flowClust_3.45.0.tar.gz PackageFileSize: 1.618 MiB