Package: flowClust Version: 3.45.0 Command: /Library/Frameworks/R.framework/Resources/bin/R CMD build --keep-empty-dirs --no-resave-data flowClust StartedAt: 2025-02-09 16:46:20 -0500 (Sun, 09 Feb 2025) EndedAt: 2025-02-09 16:49:50 -0500 (Sun, 09 Feb 2025) EllapsedTime: 209.4 seconds RetCode: 0 Status: OK PackageFile: flowClust_3.45.0.tar.gz PackageFileSize: 1.765 MiB