Package: flowClust Version: 3.45.0 Command: /Library/Frameworks/R.framework/Resources/bin/R CMD INSTALL flowClust StartedAt: 2025-02-12 15:13:04 -0500 (Wed, 12 Feb 2025) EndedAt: 2025-02-12 15:16:50 -0500 (Wed, 12 Feb 2025) EllapsedTime: 225.5 seconds RetCode: 0 Status: OK