Package: flowClust Version: 3.45.0 Command: /home/biocbuild/bbs-3.21-bioc/R/bin/R CMD check --install=check:flowClust.install-out.txt --library=/home/biocbuild/bbs-3.21-bioc/R/site-library --timings flowClust_3.45.0.tar.gz StartedAt: 2025-02-09 22:21:47 -0500 (Sun, 09 Feb 2025) EndedAt: 2025-02-09 22:24:45 -0500 (Sun, 09 Feb 2025) EllapsedTime: 177.3 seconds RetCode: 0 Status: WARNINGS CheckDir: flowClust.Rcheck Warnings: 1