Package: flowClust Version: 3.45.0 Command: rm -rf flowClust.buildbin-libdir && mkdir flowClust.buildbin-libdir && E:\biocbuild\bbs-3.21-bioc\R\bin\R.exe CMD INSTALL --build --library=flowClust.buildbin-libdir flowClust_3.45.0.tar.gz StartedAt: 2025-02-05 07:57:10 -0500 (Wed, 05 Feb 2025) EndedAt: 2025-02-05 07:57:51 -0500 (Wed, 05 Feb 2025) EllapsedTime: 41.3 seconds RetCode: 0 Status: OK PackageFile: flowClust_3.45.0.zip PackageFileSize: 876.9 KiB