Package: flowClust Version: 3.45.0 Command: chmod a+r flowClust -R && E:\biocbuild\bbs-3.21-bioc\R\bin\R.exe CMD build --keep-empty-dirs --no-resave-data flowClust StartedAt: 2025-02-09 18:43:55 -0500 (Sun, 09 Feb 2025) EndedAt: 2025-02-09 18:44:55 -0500 (Sun, 09 Feb 2025) EllapsedTime: 59.8 seconds RetCode: 0 Status: OK PackageFile: flowClust_3.45.0.tar.gz PackageFileSize: 1.592 MiB