Package: flowClust Version: 3.45.0 Command: E:\biocbuild\bbs-3.21-bioc\R\bin\R.exe CMD INSTALL flowClust StartedAt: 2025-02-09 15:36:20 -0500 (Sun, 09 Feb 2025) EndedAt: 2025-02-09 15:37:03 -0500 (Sun, 09 Feb 2025) EllapsedTime: 42.9 seconds RetCode: 0 Status: OK