Package: flowCore Version: 2.19.0 Command: rm -rf flowCore.buildbin-libdir && mkdir flowCore.buildbin-libdir && /Users/biocbuild/BBS/utils/build-universal.sh flowCore_2.19.0.tar.gz /Library/Frameworks/R.framework/Resources/bin/R flowCore.buildbin-libdir StartedAt: 2025-02-09 22:14:33 -0500 (Sun, 09 Feb 2025) EndedAt: 2025-02-09 22:14:49 -0500 (Sun, 09 Feb 2025) EllapsedTime: 15.3 seconds RetCode: 0 Status: OK PackageFile: flowCore_2.19.0.tgz PackageFileSize: 8.158 MiB