Package: flowCore Version: 2.19.0 Command: /Library/Frameworks/R.framework/Resources/bin/R CMD build --keep-empty-dirs --no-resave-data flowCore StartedAt: 2025-02-03 16:57:24 -0500 (Mon, 03 Feb 2025) EndedAt: 2025-02-03 16:57:56 -0500 (Mon, 03 Feb 2025) EllapsedTime: 31.4 seconds RetCode: 0 Status: OK PackageFile: flowCore_2.19.0.tar.gz PackageFileSize: 7.453 MiB