Package: flowCore Version: 2.19.0 Command: /Library/Frameworks/R.framework/Resources/bin/R CMD check --install=check:flowCore.install-out.txt --library=/Library/Frameworks/R.framework/Resources/library --no-vignettes --timings flowCore_2.19.0.tar.gz StartedAt: 2025-02-09 19:14:51 -0500 (Sun, 09 Feb 2025) EndedAt: 2025-02-09 19:15:49 -0500 (Sun, 09 Feb 2025) EllapsedTime: 58.7 seconds RetCode: 0 Status: WARNINGS CheckDir: flowCore.Rcheck Warnings: 3